BEGIN:VCALENDAR
VERSION:2.0
PRODID:-//hacksw/handcal//NONSGML v1.0//EN
CALSCALE:GREGORIAN
BEGIN:VEVENT
UID:69e7a92b5e5fc
DTSTAMP:20260421T164323Z
DESCRIPTION:Come join us for an open mediation session with warm drinks to relax and re-center before finals week! An Interfaith House project by Grey Kennedy Date &amp\; Time: December 7th (7-9 pm) Location: HMCC room 304 &nbsp\;
OWU Sponsoring Organization/Office: selfContact: Grey Kennedy at&nbsp\;interfaith@owu.edu
SUMMARY:Floor Time!
DTSTART:20231208T000000Z
DTEND:20231208T020000Z
END:VEVENT
END:VCALENDAR
