BEGIN:VCALENDAR
VERSION:2.0
PRODID:-//hacksw/handcal//NONSGML v1.0//EN
CALSCALE:GREGORIAN
BEGIN:VEVENT
UID:69e97b5927049
DTSTAMP:20260423T015225Z
DESCRIPTION:&ldquo\;For the Culture\,&rdquo\; a two-hour interactive event engaging the elements and history of hip-hop\, in the Benes Rooms of Hamilton-Williams Campus Center\, 40 Rowland Ave.\, Delaware. The program will feature DJs\, an MC\, graffiti\, breakdancing\, knowledge\, and the connection between chess and hip-hop\, with sessions led by DJ O Sharp\, DJ J. Rawls\, Trig\, and Royal Oak Initiative. Admission is free\, and the event is open to all ages. &ldquo\;For the Culture&rdquo\; is sponsored by OWU&rsquo\;s Diversity\, Equity\, and Inclusion Council\, Office of Multicultural Affairs\, and Black Student Union.
SUMMARY:'For the Culture' Hip-Hop Event 
DTSTART:20230210T000000Z
DTEND:20230210T020000Z
END:VEVENT
END:VCALENDAR
