BEGIN:VCALENDAR
VERSION:2.0
PRODID:-//hacksw/handcal//NONSGML v1.0//EN
CALSCALE:GREGORIAN
BEGIN:VEVENT
UID:69e94ff6343ed
DTSTAMP:20260422T224718Z
DESCRIPTION:In 2019\, Ohio Wesleyan had an external review completed of the fraternity &amp\; sorority life program. The review highlighted important priorities to help elevate our community and the experiences of our members. OWU created strategic planning committee to look at needs and action items.
Join the strategic planning committee made up of students\, staff\, and alumni to hear the improvements made to fraternity &amp\; sorority life on campus.
REGISTER NOW
SUMMARY:Fraternity and Sorority Life Town Hall
DTSTART:20210510T200000Z
DTEND:20210510T210000Z
END:VEVENT
END:VCALENDAR
