BEGIN:VCALENDAR
VERSION:2.0
PRODID:-//hacksw/handcal//NONSGML v1.0//EN
CALSCALE:GREGORIAN
BEGIN:VEVENT
UID:69e76731729c1
DTSTAMP:20260421T120153Z
DESCRIPTION:Join the Math/CS/DA student board as we play board games\, eat food\, and hang out on Monday\, September 30th from 4:30 to 6:30 PM in SCSC 393! Meet the student board\, faculty members\, and fellow math\, computer science\, and data analytics majors and minors.
OWU Sponsoring Organization/Office: Math/CS/DA Student BoardContact: Grace Martin at&nbsp\;hgmartin@owu.edu
SUMMARY:Game Night with the Math/CS/DA Student Board
DTSTART:20240930T203000Z
DTEND:20240930T223000Z
END:VEVENT
END:VCALENDAR
