BEGIN:VCALENDAR
VERSION:2.0
PRODID:-//hacksw/handcal//NONSGML v1.0//EN
CALSCALE:GREGORIAN
BEGIN:VEVENT
UID:69e9849bd2c45
DTSTAMP:20260423T023155Z
DESCRIPTION:Join the SO/AN Board on November 9th\, from 6:30-9 in Elliott Hall&nbsp\;4th Floor&nbsp\;for a game night! Try your luck at UNO\, Battleship\, and many more classic games! Snacks and food will be provided\, and we hope to see you there!
OWU Sponsoring Organization/Office: SO/AN BoardContact: Mayukha Dyta at&nbsp\;mmdyta@owu.edu
SUMMARY:Game Night with the SO/AN Board
DTSTART:20231109T233000Z
DTEND:20231110T020000Z
END:VEVENT
END:VCALENDAR
