BEGIN:VCALENDAR
VERSION:2.0
PRODID:-//hacksw/handcal//NONSGML v1.0//EN
CALSCALE:GREGORIAN
BEGIN:VEVENT
UID:69eb4fd6a9b25
DTSTAMP:20260424T111118Z
DESCRIPTION:The Treehouse (the Environmental SLU) invites you to come our Autumn-themed open house on Wednesday\, October 18th\, from 4:00-6:00pm. While chatting with current residents and other Friends-Of-The-Treehouse\, you can decorate and snack on bear-shaped sugar cookies\, paint rocks\, and complete a myriad of other crafts. We will also be announcing the winner of the Fat Bear Week tournament bracket and handing out the prize. Three cheers to Bear 128/Grazer! The Treehouse is located at 110A Rowland Ave. We hope to see you soon! More information can be found&nbsp\;here.
OWU Sponsoring Organization/Office: TreehouseContact: ABBY CHARLTON at&nbsp\;akcharlton@owu.edu
SUMMARY:Get to Know the Treehouse
DTSTART:20231018T200000Z
DTEND:20231018T220000Z
END:VEVENT
END:VCALENDAR
