BEGIN:VCALENDAR
VERSION:2.0
PRODID:-//hacksw/handcal//NONSGML v1.0//EN
CALSCALE:GREGORIAN
BEGIN:VEVENT
UID:69ea9d92aa4a1
DTSTAMP:20260423T223042Z
DESCRIPTION:The Incredible Film Club and Theta Alpha Phi are coming together to bring you a showing of "Scream" in Chappelear Drama Center! Make sure to come in costume so you can enter the Costume Contest to win trophies\, candy\, and free movie tickets! Enjoy free food\, games\, prizes\, and an authentically haunted atmosphere you just can't get anywhere else. Come to Chappelear Drama Center from 7:00-10:00 PM on Friday\, October 27th and join the fun!
OWU Sponsoring Organization/Office: Theta Alpha Phi\, The Incredible Film ClubContact: Isabelle Tinti-Kane at&nbsp\;imtintikane@owu.edu
SUMMARY:Ghoulish Gala 
DTSTART:20231027T230000Z
DTEND:20231028T020000Z
END:VEVENT
END:VCALENDAR
