BEGIN:VCALENDAR
VERSION:2.0
PRODID:-//hacksw/handcal//NONSGML v1.0//EN
CALSCALE:GREGORIAN
BEGIN:VEVENT
UID:69e9715f9bb56
DTSTAMP:20260423T010951Z
DESCRIPTION:Guest Recital: Jacob Smith Quartet\, in Jemison Auditorium inside Sanborn Hall\, 23 Elizabeth St.\, Delaware. Admission is free. For more information\, visit&nbsp\;owu.edu/PerformingArts.
SUMMARY:Guest Recital: Jacob Smith Quartet
DTSTART:20241121T010000Z
DTEND:20241121T020000Z
END:VEVENT
END:VCALENDAR
