BEGIN:VCALENDAR
VERSION:2.0
PRODID:-//hacksw/handcal//NONSGML v1.0//EN
CALSCALE:GREGORIAN
BEGIN:VEVENT
UID:69ed645566601
DTSTAMP:20260426T010317Z
DESCRIPTION:Hall Council will be hosting a Ping Pong Tournament in the basement of Welch on Friday\, February 7th\, from 7-9 p.m. The winner will receive a trophy and bragging rights. No teams are required- bring your friends\, and discover who has a secret table-tennis talent!
OWU Sponsoring Organization/Office: Hall CouncilContact: Lilly Colbeck at&nbsp\;lccolbeck@owu.edu
SUMMARY:Hall Council's Ping Pong Tournament
DTSTART:20250208T000000Z
DTEND:20250208T020000Z
END:VEVENT
END:VCALENDAR
