BEGIN:VCALENDAR
VERSION:2.0
PRODID:-//hacksw/handcal//NONSGML v1.0//EN
CALSCALE:GREGORIAN
BEGIN:VEVENT
UID:69ea9dda56c4f
DTSTAMP:20260423T223154Z
DESCRIPTION:ハッピーハロウィン! Join us this Friday\, October 27th from 12-2PM in the HamWill Atrium for a celebration of Halloween in Japan. Learn about classic Yokai and Oni as well as the Japanese tradition of Setsubun\, as well as getting to learn some words in Japanese that relate to the Halloween here. There will be origami\, mask making\, and Japanese candy! We hope to see you there! じゃまた～～
OWU Sponsoring Organization/Office: House of Linguistic DiversityContact: Anya Shevchik at&nbsp\;amshevchik@owu.edu
SUMMARY:Halloween in Japan
DTSTART:20231027T160000Z
DTEND:20231027T180000Z
END:VEVENT
END:VCALENDAR
