BEGIN:VCALENDAR
VERSION:2.0
PRODID:-//hacksw/handcal//NONSGML v1.0//EN
CALSCALE:GREGORIAN
BEGIN:VEVENT
UID:69ea4cc1c8754
DTSTAMP:20260423T164553Z
DESCRIPTION:Join the Philosophy and Religion Department for a viewing of spooky Twilight Zone episodes on Halloween night (Tuesday\, October 31) from 7 p.m. - 9 p.m. in the Crider Lounge (second floor of HWCC)! Refreshments will be provided. All are welcome!
OWU Sponsoring Organization/Office: Philosophy and Religion Student BoardContact: Anna Nacci at&nbsp\;philrel@owu.edu
SUMMARY:Halloween Viewing Party with the Philosophy and Religion Department
DTSTART:20231031T230000Z
DTEND:20231101T010000Z
END:VEVENT
END:VCALENDAR
