BEGIN:VCALENDAR
VERSION:2.0
PRODID:-//hacksw/handcal//NONSGML v1.0//EN
CALSCALE:GREGORIAN
BEGIN:VEVENT
UID:69ea3761d972a
DTSTAMP:20260423T151441Z
DESCRIPTION:Making holiday cards for people in an assisted living home\; is a meaningful way to spread joy\, brighten their day\, and remind them they're valued. This small gesture creates a sense of connection and lifts spirits. Our way of including our Delaware community encourages social interaction among residents\, helping to ease loneliness and bring warmth to their holiday season.&nbsp\;&nbsp\;
OWU Sponsoring Organization/Office: Sisters UnitedContact: Desaray Dorelien at&nbsp\;sistersunited@owu.edu
SUMMARY:Handmade Holiday: Cards Creations
DTSTART:20241205T220000Z
DTEND:20241206T003000Z
END:VEVENT
END:VCALENDAR
