BEGIN:VCALENDAR
VERSION:2.0
PRODID:-//hacksw/handcal//NONSGML v1.0//EN
CALSCALE:GREGORIAN
BEGIN:VEVENT
UID:69e873be3bff2
DTSTAMP:20260422T070742Z
DESCRIPTION:How do you correctly say Antigua? What is mining like in Rwanda? You can find out at the World Horizons display at HamWill on Tuesday\, November 12 from 6:30-8:00pm in the Atrium. Come meet and mingle with OWU&apos\;s newest international and global nomad students* and explore their poster displays in the atrium of HamWil\, as part of their UC 99 class. International desserts will be served at the event too! &apos\;Feicfidh m&eacute\; thart th&uacute\;! Matane! See you later! *The 15 countries represented include Antigua\, Argentina\, Czech Republic\, Ghana\, Greece\, Haiti\, India\, Ireland\, Japan\, Kenya\, the Netherlands\, Pakistan\, Rwanda\, South Korea\, Taiwan and Vietnam.
OWU Sponsoring Organization/Office: IOCP-International and Off Campus Programs OfficeContact: Dede Shine at&nbsp\;djshine@owu.edu
SUMMARY:Hello Project/ Discovering the world at OWU
DTSTART:20241112T233000Z
DTEND:20241113T010000Z
END:VEVENT
END:VCALENDAR
