BEGIN:VCALENDAR
VERSION:2.0
PRODID:-//hacksw/handcal//NONSGML v1.0//EN
CALSCALE:GREGORIAN
BEGIN:VEVENT
UID:69ead5e65b829
DTSTAMP:20260424T023102Z
DESCRIPTION:Decorate your own donuts with the Health and Human Kinetics Department!
Join us for some delicious cider and donuts! Meet and chat with the HHK professors.
HHK Fall Social:Date:10/24/2023Time: 11:30-1 p.m.Location: Hamilton Williams\, Bene Room A
OWU Sponsoring Organization/Office: HHKContact: Wendi Kay at&nbsp\;wwkay@owu.edu
SUMMARY:HHK Department Fall Social
DTSTART:20231024T153000Z
DTEND:20231024T170000Z
END:VEVENT
END:VCALENDAR
