BEGIN:VCALENDAR
VERSION:2.0
PRODID:-//hacksw/handcal//NONSGML v1.0//EN
CALSCALE:GREGORIAN
BEGIN:VEVENT
UID:69e95f5877ae3
DTSTAMP:20260422T235256Z
DESCRIPTION:Join us as we welcome filmmaker Christopher Zalla to campus for an engaging look into his career\, the art of filmmaking and his latest movie\, Radical.
Noon-1 Ross Museum
Meet Christopher Zalla\, and gain insights into his career and the craft of filmmaking.
7pm - 9:30pm Corns 312
screening off radical\, followed by a Q&amp\;A session with the Director
Questions\, contact&nbsp\;eeparosh@owu.edu
SUMMARY:Hispanic Film Fest welcomes director Christopher Zalla
DTSTART:20241119T170000Z
DTEND:20241119T180000Z
END:VEVENT
END:VCALENDAR
