BEGIN:VCALENDAR
VERSION:2.0
PRODID:-//hacksw/handcal//NONSGML v1.0//EN
CALSCALE:GREGORIAN
BEGIN:VEVENT
UID:69e7d08884731
DTSTAMP:20260421T193120Z
DESCRIPTION:The Fall 24 Hispanic Film Festival continues Tuesday Nov 5 with Spanish Film&nbsp\;20\,000 Especies de abejas&nbsp\;(Dir. Estibaliz Urresola Solaguren\, 2023). Join us for the screening of this award winning film and participate in the Q&amp\;A discussion afterwards. Go to the&nbsp\;film fest website&nbsp\;for more information.
Screening time: Tuesday\, November 5\, 7pm to 9pm\, Corns 312.
For questions\, contact Eva Paris\,&nbsp\;eeparish@owu.edu
The Fall 24 Hispanic Film Festival continues Tuesday Nov 5 with Spanish Film&nbsp\;20\,000 Especies de abejas&nbsp\;(Dir. Estibaliz Urresola Solaguren\, 2023). Join us for the screening of this award winning film and participate in the Q&amp\;A discussion afterwards. Go to the&nbsp\;film fest website&nbsp\;for more information.
Screening time: Tuesday\, November 5\, 7pm to 9pm\, Corns 312.
For questions\, contact Eva Paris\,&nbsp\;eeparish@owu.edu
SUMMARY:Hispanic Film Festival 
DTSTART:20241106T000000Z
DTEND:20241106T020000Z
END:VEVENT
END:VCALENDAR
