BEGIN:VCALENDAR
VERSION:2.0
PRODID:-//hacksw/handcal//NONSGML v1.0//EN
CALSCALE:GREGORIAN
BEGIN:VEVENT
UID:69e7bda593f3d
DTSTAMP:20260421T181045Z
DESCRIPTION:Test your history knowledge at the Student History Board's Jeopardy night! Join us in Elliott Hall rm 101 at 4 pm for an opportunity to win awesome prizes and enjoy yummy snacks. See you there!&nbsp\;
OWU Sponsoring Organization/Office: The Student History BoardContact: Grace Zoldak at&nbsp\;gfzoldak@owu.edu
SUMMARY:History-Themed Jeopardy
DTSTART:20231206T210000Z
DTEND:20231206T230000Z
END:VEVENT
END:VCALENDAR
