BEGIN:VCALENDAR
VERSION:2.0
PRODID:-//hacksw/handcal//NONSGML v1.0//EN
CALSCALE:GREGORIAN
BEGIN:VEVENT
UID:69e6dc31bab6a
DTSTAMP:20260421T020849Z
DESCRIPTION:Visit owu.edu/HFW for the latest information on Homecoming &amp\; Family Weekend 2023!
SUMMARY:Homecoming &amp\; Family Weekend
DTSTART:20231006
DTEND:20231006
END:VEVENT
END:VCALENDAR
