BEGIN:VCALENDAR
VERSION:2.0
PRODID:-//hacksw/handcal//NONSGML v1.0//EN
CALSCALE:GREGORIAN
BEGIN:VEVENT
UID:69e7966105958
DTSTAMP:20260421T152313Z
DESCRIPTION:Stop by our table in the Ham-Will Atrium on Friday\, December 8th at noon for a good luck goodie bag before finals week brought to you by the Honors Board! Goodie bags are limited and they are claimed on a first come first serve basis so swing by at noon to claim one! We hope to see you then and good luck on finals!
OWU Sponsoring Organization/Office: Honors BoardContact: Ireland Nowak at&nbsp\;ianowak@owu.edu
SUMMARY:Honors Board Goodie Bag Handout
DTSTART:20231208T170000Z
DTEND:20231208T180000Z
END:VEVENT
END:VCALENDAR
