BEGIN:VCALENDAR
VERSION:2.0
PRODID:-//hacksw/handcal//NONSGML v1.0//EN
CALSCALE:GREGORIAN
BEGIN:VEVENT
UID:69ed3a94deb23
DTSTAMP:20260425T220508Z
DESCRIPTION:OWU students\, join the Kitchen tonight for some hot cocoa in Smith Kitchen on the 2nd floor to ask any questions\, meet us\, and get to know us and other prospective members. Hope to see you there! Apply to join our SLU here:&nbsp\;https://docs.google.com/forms/d/e/1FAIpQLSfAKG9mlCYJav6zXTCGo4yKgTD5Dz22q2LLCX9Paoircv0HHg/viewform?usp=header
OWU Sponsoring Organization/Office: ResLifeContact: Jessica Aneshansel at&nbsp\;jcaneshansel@owu.edu
SUMMARY:Hot Cocoa and Chat 
DTSTART:20250205T230000Z
DTEND:20250206T010000Z
END:VEVENT
END:VCALENDAR
