BEGIN:VCALENDAR
VERSION:2.0
PRODID:-//hacksw/handcal//NONSGML v1.0//EN
CALSCALE:GREGORIAN
BEGIN:VEVENT
UID:69e9fafd8fa88
DTSTAMP:20260423T105701Z
DESCRIPTION:You're invited to the lighting of the Hudler Memorial Christmas Tree\, an OWU tradition since 2008. The lighting will take place at the tree on Dec 2nd at 6:30 pm\, located on the front lawn near the South Sandusky Street-Park Avenue intersection.&nbsp\;
The spruce tree was donated to the University in memory of Ron Hudler\, OWU Class of 1956\, who had owned one of the nation's largest Christmas tree farms.
OWU Sponsoring Organization/Office: Alumni Engagement and StewardshipContact: Amara Carlson at&nbsp\;amcarlson@owu.edu
SUMMARY:Hudler Memorial Tree Lighting
DTSTART:20241202T233000Z
DTEND:20241203T010000Z
END:VEVENT
END:VCALENDAR
