BEGIN:VCALENDAR
VERSION:2.0
PRODID:-//hacksw/handcal//NONSGML v1.0//EN
CALSCALE:GREGORIAN
BEGIN:VEVENT
UID:69e85af51e751
DTSTAMP:20260422T052157Z
DESCRIPTION:Join us on 4/4/2022 from 6:30-8:30 to experience the ways in which kids' books have shaped lives by fostering ideas of inclusivity\, representation\, and acceptance!
OWU Sponsoring Organization/Office: SAGEContact: Jason Tannenbaum at&nbsp\;jstannenbaum@owu.edu
SUMMARY:Inclusive Kids' Books Event
DTSTART:20220404T223000Z
DTEND:20220405T003000Z
END:VEVENT
END:VCALENDAR
