BEGIN:VCALENDAR
VERSION:2.0
PRODID:-//hacksw/handcal//NONSGML v1.0//EN
CALSCALE:GREGORIAN
BEGIN:VEVENT
UID:69eb620cb1037
DTSTAMP:20260424T122900Z
DESCRIPTION:Thursday\, Jul. 4\, 2024\, is the Independence Day break for all OWU classes.&nbsp\;View the full academic calendar.&nbsp\;
SUMMARY:Independence Day Break
DTSTART:20240704
DTEND:20240704
END:VEVENT
END:VCALENDAR
