BEGIN:VCALENDAR
VERSION:2.0
PRODID:-//hacksw/handcal//NONSGML v1.0//EN
CALSCALE:GREGORIAN
BEGIN:VEVENT
UID:69ea61fde7807
DTSTAMP:20260423T181629Z
DESCRIPTION:The English Department welcomes James Fujinami Moore TODAY from 4:15-5:15 p.m. in the Milligan Room of Slocum Hall. Moore's debut poetry collection is "indecent hours" (Four Way Books\, 2022)\, winner of the GLCA New Writers Award in Poetry and finalist for the Golden Poppy's Martin Cruz Smith Award &amp\; the Lambda Literary Award in Bisexual Poetry. His work has appeared or is forthcoming in Asimov's Science Fiction\, Barrow Street's 4x2\, The Brooklyn Rail\, Guesthouse\, Jet Fuel Review\, The Margins\, the Pacifica Literary Review\, and Prelude. He has received fellowships from Poets House\, Bread Loaf\, and the Frost Place.
Join Moore for a reading followed by a Q&amp\;A and book signing. This event is free and open to the public.
OWU Sponsoring Organization/Office: English DepartmentContact: Beth Fedoush at&nbsp\;eng@owu.edu
SUMMARY:James Fujinami Moore Reading
DTSTART:20231030T201500Z
DTEND:20231030T211500Z
END:VEVENT
END:VCALENDAR
