BEGIN:VCALENDAR
VERSION:2.0
PRODID:-//hacksw/handcal//NONSGML v1.0//EN
CALSCALE:GREGORIAN
BEGIN:VEVENT
UID:69e7fc48b8de4
DTSTAMP:20260421T223800Z
DESCRIPTION:Join Kappa Phi on Sunday\, December 3 at 6 p.m. in Ham Will 304 for a holiday celebration! There will be food and a holiday activity. Kappa Phi is a Christ-centered organization for collegiate women and those who have graduated into alumnae. It is an organization built around four pillars that include\, service\, fellowship\, worship\, and study.&nbsp\;
OWU Sponsoring Organization/Office: Chaplins OfficeContact: Shaelyn Cretu at&nbsp\;sacretu@owu.edu
SUMMARY:Kappa Phi Holiday Celebration
DTSTART:20231203T230000Z
DTEND:20231204T000000Z
END:VEVENT
END:VCALENDAR
