BEGIN:VCALENDAR
VERSION:2.0
PRODID:-//hacksw/handcal//NONSGML v1.0//EN
CALSCALE:GREGORIAN
BEGIN:VEVENT
UID:69e94b922dae1
DTSTAMP:20260422T222834Z
DESCRIPTION:Join Kappa Phi alum on November 12 at 6 pm for games\, food\, and fun to learn more about what this organization is! Kappa Phi is a Christ-centered organization for collegiate women and those who have graduated into the alumnae. It is an organization built around four pillars that include\, service\, fellowship\, worship\, and study.&nbsp\;
OWU Sponsoring Organization/Office: Chaplins OfficeContact: Shaelyn Cretu at&nbsp\;sacretu@owu.edu
SUMMARY:Kappa Phi Informational Meeting
DTSTART:20231112T230000Z
DTEND:20231113T003000Z
END:VEVENT
END:VCALENDAR
