BEGIN:VCALENDAR
VERSION:2.0
PRODID:-//hacksw/handcal//NONSGML v1.0//EN
CALSCALE:GREGORIAN
BEGIN:VEVENT
UID:69eae88538583
DTSTAMP:20260424T035029Z
DESCRIPTION:SENIORS! Are you ready for life after graduation? Join us October 23rd @ 12pm in Corns 312 to attend the&nbsp\;KICK your future into SHAPE workshop&nbsp\;(lunch included)! You will come away with a check-list and a wealth of resources and next steps\, including details about our exciting new Boot-Camp at the start of Spring Semester. This event will be the start of Senior-Focused events that will help you land a job\, prepare for graduate school\, and come away with all the tools you need! Register on Handshake TODAY for this event! While this event is intended for seniors\, all students are welcome. Please reach out to&nbsp\;careers@owu.edu with any questions &amp\; we look forward to seeing you there!
OWU Sponsoring Organization/Office: Career ConnectionContact: Josie Martin at&nbsp\;careers2@owu.edu
&nbsp\;
SUMMARY:Kick your Future into Shape Workshop
DTSTART:20231023T160000Z
DTEND:20231023T170000Z
END:VEVENT
END:VCALENDAR
