BEGIN:VCALENDAR
VERSION:2.0
PRODID:-//hacksw/handcal//NONSGML v1.0//EN
CALSCALE:GREGORIAN
BEGIN:VEVENT
UID:69ea3b3387475
DTSTAMP:20260423T153059Z
DESCRIPTION:Join entrepreneurs\, founders\, and business leaders at Kickstart Ohio for three days of learning and connection. Get real insights on funding\, growth strategies\, and emerging opportunities. Kickstart Ohio speakers will share practical knowledge you can use to grow your business in today's market.
Kickstart Ohio also will feature a fireside chat with Apple Computer co-founder Steve Wozniak and Ohio Wesleyan President Matt vandenBerg. To learn more and purchase tickets\, visit&nbsp\;kickstartohio.com.
Kickstart Ohio is presented by the Delaware Entrepreneurial Center at Ohio Wesleyan University (DEC OWU). Learn more about the center\, including memberships and programming\, at&nbsp\;owu.edu/DEC.
SUMMARY:Kickstart Ohio
DTSTART:20251023T120000Z
DTEND:20251023T200000Z
END:VEVENT
END:VCALENDAR
