BEGIN:VCALENDAR
VERSION:2.0
PRODID:-//hacksw/handcal//NONSGML v1.0//EN
CALSCALE:GREGORIAN
BEGIN:VEVENT
UID:69eb6b02b0814
DTSTAMP:20260424T130714Z
DESCRIPTION:Join us for October&rsquo\;s Late Night @ Smith! We will be playing Singo with a spooky twist\, and there will also be a Halloween Costume Contest! Bring your best costume\, enjoy one of our spooky mocktails\, and win some prizes as we play Singo!&nbsp\;&nbsp\;When and Where: Thursday\, October 26th at 9:00 pm in the Smith dining hall.&nbsp\;&nbsp\;All costumes must follow university policy and be respectful of all cultures and identities.&nbsp\;
OWU Sponsoring Organization/Office: Residential LifeContact: Mack Wade at&nbsp\;reslife@owu.edu
SUMMARY:Late Night at Smith: Spooky Singo
DTSTART:20231027T010000Z
DTEND:20231027T030000Z
END:VEVENT
END:VCALENDAR
