BEGIN:VCALENDAR
VERSION:2.0
PRODID:-//hacksw/handcal//NONSGML v1.0//EN
CALSCALE:GREGORIAN
BEGIN:VEVENT
UID:69e766e473ccf
DTSTAMP:20260421T120036Z
DESCRIPTION:Late Night Breakfast is an OWU tradition that marks the start of finals week. This year's event will be on Monday\, Dec. 11\, from 9-11 p.m. in Smith Dining Hall. Come take a break from studying to join us for great breakfast food served by faculty and staff! This year we will have a photo booth\, WiiSports with Esports\, S'mores\, giveaways\, new food items\, and some breakfast favorites!
OWU Sponsoring Organization/Office: Residential Life and AVIContact: Molly Grace Lovette at&nbsp\;mglovette@owu.edu
SUMMARY:Late Night Breakfast
DTSTART:20231212T020000Z
DTEND:20231212T040000Z
END:VEVENT
END:VCALENDAR
