BEGIN:VCALENDAR
VERSION:2.0
PRODID:-//hacksw/handcal//NONSGML v1.0//EN
CALSCALE:GREGORIAN
BEGIN:VEVENT
UID:69e86579e9981
DTSTAMP:20260422T060649Z
DESCRIPTION:Residential Life holds their second Late Night @ Smith! We are hosting Karaoke at the Smith Stairs starting at 9:00pm and will be on a volunteer basis.
OWU Sponsoring Organization/Office: Residential LifeContact: Jon Maldonado at&nbsp\;Jmmaldonado@owu.edu
&nbsp\;
SUMMARY:Late Night @ Smith: Karaoke
DTSTART:20240920T010000Z
DTEND:20240920T030000Z
END:VEVENT
END:VCALENDAR
