BEGIN:VCALENDAR
VERSION:2.0
PRODID:-//hacksw/handcal//NONSGML v1.0//EN
CALSCALE:GREGORIAN
BEGIN:VEVENT
UID:69e80d7ea57b8
DTSTAMP:20260421T235126Z
DESCRIPTION:We're picking up right were we left off so make sure to come out to the Smith Stairs at 9pm to reserve your favorite karaoke song!
OWU Sponsoring Organization/Office: Residential LifeContact: Molly Grace Lovette at&nbsp\;reslife@owu.edu
SUMMARY:LateNight@Smith: Karaoke
DTSTART:20241108T020000Z
DTEND:20241108T040000Z
END:VEVENT
END:VCALENDAR
