BEGIN:VCALENDAR
VERSION:2.0
PRODID:-//hacksw/handcal//NONSGML v1.0//EN
CALSCALE:GREGORIAN
BEGIN:VEVENT
UID:69e89c2e2748b
DTSTAMP:20260422T100014Z
DESCRIPTION:&nbsp\;&iexcl\;Hola! Are you passionate about Latin America? Curious about how OWU&apos\;s Latin American Studies program could better reflect what&nbsp\;you&nbsp\;want to learn? Join us for&nbsp\;"Latin America Unwrapped"&nbsp\;&mdash\; a fun lunch event where you can share your thoughts and help shape the future of the program!&nbsp\;What:&nbsp\;Lunch from Chipotle + a chance to influence the new Latin American Studies curriculum&nbsp\;When:&nbsp\;Thursday\, November 14th\, 12-1pm&nbsp\;Where:&nbsp\;Crider Lounge (2nd floor of Ham-Wil)&nbsp\;RSVP:&nbsp\;Please sign up here to save your spot (and to order your burrito)! Your insights are incredibly valuable as we reimagine the program\, so we&apos\;d love to hear from you!
RSVP by 11/14 at 10am if you want to order lunch
OWU Sponsoring Organization/Office: Latin American Studies ProgramContact: Andrea Colvin at&nbsp\;arcolvin@owu.edu
SUMMARY:Latin American Studies Event
DTSTART:20241114T170000Z
DTEND:20241114T180000Z
END:VEVENT
END:VCALENDAR
