BEGIN:VCALENDAR
VERSION:2.0
PRODID:-//hacksw/handcal//NONSGML v1.0//EN
CALSCALE:GREGORIAN
BEGIN:VEVENT
UID:69e7e875031fc
DTSTAMP:20260421T211325Z
DESCRIPTION:Lessons &amp\; Carols concert\, conducted by associate professor Jason Hiester\, featuring sing-along Christmas carols and spiritual readings\, in Gray Chapel inside University Hall\, 61 S. Sandusky St.\, Delaware. In addition to OWU performers\, the concert will feature the Delaware Community Chorus\, Powell United Methodist Church Chancel Choir\, and Linworth United Methodist Church Chancel Choir. Joshua Brodbeck will be performing on the historic Klais Organ. Admission is free. For more information\, visit&nbsp\;owu.edu/PerformingArts.
SUMMARY:&quot\;Lessons &amp\; Carols&quot\; Holiday Concert
DTSTART:20231205T000000Z
DTEND:20231205T020000Z
END:VEVENT
END:VCALENDAR
