BEGIN:VCALENDAR
VERSION:2.0
PRODID:-//hacksw/handcal//NONSGML v1.0//EN
CALSCALE:GREGORIAN
BEGIN:VEVENT
UID:69ed3ae4393bc
DTSTAMP:20260425T220628Z
DESCRIPTION:Counseling Services\, in partnership with OWU Chaplain's Office\, will be offering a Gathering &amp\; Support Space for LGBTQIA2S+ Students and Allies. This is a space created for students who may be feeling more stressed due to recent events and legislation. This space will be inclusive and focused on providing support for LGBTQIA2S+ individuals and allies. The Gathering &amp\; Support Space will be on Wednesdays at 3:00 PM beginning Wednesday\, February 5 in HWCC 312.
OWU Sponsoring Organization/Office: OWU Counseling Services and Chaplain's OfficeContact: Leana Froehlich-Terry at&nbsp\;counselingservices@owu.edu
SUMMARY:LGBTQIA2S+ Community Gathering and Support Space
DTSTART:20250205T200000Z
DTEND:20250205T210000Z
END:VEVENT
END:VCALENDAR
