BEGIN:VCALENDAR
VERSION:2.0
PRODID:-//hacksw/handcal//NONSGML v1.0//EN
CALSCALE:GREGORIAN
BEGIN:VEVENT
UID:69ecf50b56920
DTSTAMP:20260425T170827Z
DESCRIPTION:The Creative Writing Program at Ohio Wesleyan is pleased to celebrate the arrival of prominent Native writer\, Tommy Orange\, as a visiting writer at the Delaware County Public Library Orange branch location on Saturday\, November 12th from 7-9pm. Any student (any major/minor) who is interested in attending this free reading is encouraged to reserve a seat for free via the Delaware County Public Library event page (https://delawarelibrary.libnet.info/event/6844797)\; to reserve a seat\, students will need to enter their Delaware County Public Library card number\, which you can sign up for free of charge using your OWU student ID at any branch location\, including the Delaware branch two blocks from campus. Students should register for the event ASAP\, as space is limited and seats will go quickly. In addition\, any student (or staff/faculty) who is in need of a ride to the reading is encouraged to contact Professor Butcher at&nbsp\;aebutche@owu.edu&nbsp\;to reserve a free seat in a campus van.
Ticket Cost:
Free\, but registration is required
OWU Sponsoring Organization/Office: Creative Writing ProgramContact: Amy Butcher at&nbsp\;aebutche@owu.edu
&nbsp\;
SUMMARY:Local Reading By Native Writer Tommy Orange
DTSTART:20221113T000000Z
DTEND:20221113T020000Z
END:VEVENT
END:VCALENDAR
