BEGIN:VCALENDAR
VERSION:2.0
PRODID:-//hacksw/handcal//NONSGML v1.0//EN
CALSCALE:GREGORIAN
BEGIN:VEVENT
UID:69ed82256cb78
DTSTAMP:20260426T031029Z
DESCRIPTION:Horizons welcomes you to the Year of the Snake! &nbsp\;On this Saturday\, 5 - 7:30 pm\, celebrate Lunar New Year 2025 with the OWU community! Join us for an evening filled with cultural traditions\, delicious FREE food\, and festive performances&mdash\;including a breathtaking Lion Dance. Embrace the spirit of new beginnings with friends and faculty as we honor this special occasion together. Date: Saturday\, February 8 Location: Benes Rooms\, Hamilton-Williams Campus Center Time: 5:00 PM &ndash\; 7:30 PM Don&apos\;t miss this opportunity to share in the joy and traditions of Lunar New YearWishing you a year of prosperity and happiness!
SUMMARY:Lunar New Year 2025
DTSTART:20250208T220000Z
DTEND:20250209T003000Z
END:VEVENT
END:VCALENDAR
