BEGIN:VCALENDAR
VERSION:2.0
PRODID:-//hacksw/handcal//NONSGML v1.0//EN
CALSCALE:GREGORIAN
BEGIN:VEVENT
UID:69e6078837e78
DTSTAMP:20260420T110128Z
DESCRIPTION:Did you hear Grace Tippens and Jennifer Allen's Connection Conference presentation and now want to hear more? Then bring your lunch and join the Education Department from noon to 12:45 p.m. Oct. 18th in Corns 302 to learn more about Grace and Jennifer's Theory-to-Practice-Grant supported trip to Italy.
OWU Sponsoring Organization/Office: "self"
Contact: Grace Tippens at gctippens@owu.edu
SUMMARY:Lunch and Learn: Bishops in the Birthplace of Reggio Emilia
DTSTART:20241018T160000Z
DTEND:20241018T164500Z
END:VEVENT
END:VCALENDAR
