BEGIN:VCALENDAR
VERSION:2.0
PRODID:-//hacksw/handcal//NONSGML v1.0//EN
CALSCALE:GREGORIAN
BEGIN:VEVENT
UID:69e5c14312200
DTSTAMP:20260420T060139Z
DESCRIPTION:&nbsp\;The 2024 election has major implications for environmental policy\, and yet the environment is often missing from election coverage. At this Lunch and Learn\, Dr. Laurie Anderson\, Dr. John Krygier\, and Dr. Franchesca Nestor will share their perspectives on &quot\;The Election and the Environment.&quot\; A guide comparing the major parties on environmental issues created by students will be available. Students from several ENVS courses will contribute background for issues the panel will discuss. Date and Time:&nbsp\; Sept. 30 from 12:10-1 p.m. Location: Merrick 301 Cosponsors: SNC\, ENVS Sustainability Taskforce\, Politics and Government.&nbsp\;
OWU Sponsoring Organization/Office: SNC\, ENVS Sustainability Taskforce\, Politics and GovernmentContact: Jill Hayes at&nbsp\;snc@owu.edu
SUMMARY:Lunch &amp\; Learn: The Election &amp\; the Environment
DTSTART:20240930T161000Z
DTEND:20240930T170000Z
END:VEVENT
END:VCALENDAR
