BEGIN:VCALENDAR
VERSION:2.0
PRODID:-//hacksw/handcal//NONSGML v1.0//EN
CALSCALE:GREGORIAN
BEGIN:VEVENT
UID:69eb62a0c32fc
DTSTAMP:20260424T123128Z
DESCRIPTION:On October the 17th\, we will have the privilege to hear from Lysa Selli who is the Director of Recruitment from St. George's University - School of Veterinary Medicine. She plans to visit OWU during the lunch hour with pizza and will discuss St. George's Veterinary Program. If you can attend please let me know so I know how many people to expect. Thank you so much!&nbsp\;
OWU Sponsoring Organization/Office: Pre-Vet ClubContact: Renae Frymyer at&nbsp\;rifrymyer@owu.edu
SUMMARY:Lunch with St. George's University -- College of Veterinary Medicine
DTSTART:20231017T160000Z
DTEND:20231017T170000Z
END:VEVENT
END:VCALENDAR
