BEGIN:VCALENDAR
VERSION:2.0
PRODID:-//hacksw/handcal//NONSGML v1.0//EN
CALSCALE:GREGORIAN
BEGIN:VEVENT
UID:69ed541c333b5
DTSTAMP:20260425T235404Z
DESCRIPTION:Ohio Wesleyan students: You're invited to come by the Ross Art Museum from 6-9 p.m. this Thursday to doodle and have your drawings turned into stickers! Snacks will be provided.
OWU Sponsoring Organization/Office: Richard M. Ross Art MuseumContact: Ruth Szukala at&nbsp\;ramuseum@owu.edu
SUMMARY:Make Your Own Stickers at the Ross
DTSTART:20250206T230000Z
DTEND:20250207T020000Z
END:VEVENT
END:VCALENDAR
