BEGIN:VCALENDAR
VERSION:2.0
PRODID:-//hacksw/handcal//NONSGML v1.0//EN
CALSCALE:GREGORIAN
BEGIN:VEVENT
UID:69e85af581edc
DTSTAMP:20260422T052157Z
DESCRIPTION:There will be an informal Zoom meeting on Tuesday (3/29) at 7:00 PM for conversation and questions about what's in store for Fall '22 with the OWU Marching Band (see invite link below). All current and incoming students are welcome to tune in\, but attendance is not a requirement - just an opportunity to chat or listen. We&rsquo\;ll cover logistics for band camp\, fall season events\, and any questions you might have.
Go Bishops!
Rich Edwards\, DirectorChris Lizak\, Assistant Director
Topic: OWU Marching Bishops Info MeetingTime: Mar 29\, 2022 07:00 PM Eastern Time (US and Canada)
Join Zoom Meetinghttps://owu-edu.zoom.us/j/98653712505?pwd=U0RaSU9WTXVvNWI3TmtBNHVEbm04QT09
Meeting ID: 986 5371 2505Passcode: 712165
OWU Sponsoring Organization/Office: Performing Arts DepartmentContact: Richard Edwards at&nbsp\;rdedward@owu.edu
SUMMARY:Marching Band Info Meeting
DTSTART:20220329T230000Z
DTEND:20220330T000000Z
END:VEVENT
END:VCALENDAR
