BEGIN:VCALENDAR
VERSION:2.0
PRODID:-//hacksw/handcal//NONSGML v1.0//EN
CALSCALE:GREGORIAN
BEGIN:VEVENT
UID:69ece1255244f
DTSTAMP:20260425T154333Z
DESCRIPTION:Come join us this Thursday\, 9/28\, from 6-8 pm for Meet the Greeks\, presented by the Interfraternity and Panhellenic Councils here at OWU! Come meet and learn about all the Greek Life offered here\; including Fraternities\, Sororities\, and NPHC Chapters. It will be located outside on the Smith Hall Patio. We look forward to seeing everyone there! Lead. Serve. Belong.
OWU Sponsoring Organization/Office: Fraternity and Sorority Life OfficeContact: Sean Kessel at&nbsp\;involveu@owu.edu
SUMMARY:Meet the Greeks 
DTSTART:20230928T220000Z
DTEND:20230929T000000Z
END:VEVENT
END:VCALENDAR
