BEGIN:VCALENDAR
VERSION:2.0
PRODID:-//hacksw/handcal//NONSGML v1.0//EN
CALSCALE:GREGORIAN
BEGIN:VEVENT
UID:69ea9dee3a0e8
DTSTAMP:20260423T223214Z
DESCRIPTION:Are you thinking about majoring or minoring in Psychology or Neuroscience? Are you interested in learning more about the Psychology and Neuroscience departments here at OWU? If so\, join us this Friday\, October 27 at noon in Phillips 009. Each of our Psychology department faculty members will be giving an introduction to themselves\, their research interests\, and the classes they teach. A couple Psychology Student Board members will also be present to share a little about their experiences within the department. Pizza will be provided. We hope to see you there!
OWU Sponsoring Organization/Office: Psychology DepartmentContact: Katie Chittum at&nbsp\;khchittum@owu.edu
SUMMARY:Meet the Psychology Department
DTSTART:20231027T160000Z
DTEND:20231027T170000Z
END:VEVENT
END:VCALENDAR
