BEGIN:VCALENDAR
VERSION:2.0
PRODID:-//hacksw/handcal//NONSGML v1.0//EN
CALSCALE:GREGORIAN
BEGIN:VEVENT
UID:69e547dccaa80
DTSTAMP:20260419T212340Z
DESCRIPTION:Monday\, May 27\, 2024\, is the Memorial Day break for all OWU classes. View the full academic calendar.&nbsp\;
SUMMARY:Memorial Day Break
DTSTART:20240527
DTEND:20240527
END:VEVENT
END:VCALENDAR
