BEGIN:VCALENDAR
VERSION:2.0
PRODID:-//hacksw/handcal//NONSGML v1.0//EN
CALSCALE:GREGORIAN
BEGIN:VEVENT
UID:69ed370724d7f
DTSTAMP:20260425T214959Z
DESCRIPTION:Join us this Thursday\, May 2nd from 12-1pm in the Counseling Services office (Corns 316) for our final skill-building workshop of the semester! This one-hour workshop is designed to help college students build resilience during life transitions. In this non-clinical setting\, we'll explore practical strategies and valuable insights to navigate major life changes\, whether it's graduating\, transitioning out of athletics\, or embracing the summer break. Through interactive discussions and supportive exercises\, you'll discover how to adapt\, grow\, and thrive in the face of transition. Whether you're excited\, anxious\, or uncertain about what lies ahead\, this session offers a welcoming space to gain resilience skills and foster a positive outlook for the future. Don't miss this opportunity to prepare for your next chapter with confidence and resilience.
OWU Sponsoring Organization/Office: OWU Counseling ServicesContact: Leana Froehlich-Terry at&nbsp\;counselingservices@owu.edu
SUMMARY:MH Workshop: Building Resilience During Transitions/Final Exam Stress Break
DTSTART:20240502T160000Z
DTEND:20240502T170000Z
END:VEVENT
END:VCALENDAR
