BEGIN:VCALENDAR
VERSION:2.0
PRODID:-//hacksw/handcal//NONSGML v1.0//EN
CALSCALE:GREGORIAN
BEGIN:VEVENT
UID:69e6de03b6904
DTSTAMP:20260421T021635Z
DESCRIPTION:Wednesday-Sunday\, October 11-15\, 2023\, is the mid-semester break for all OWU classes. View the full academic calendar.&nbsp\;
SUMMARY:Mid-Semester Break
DTSTART:20231011
DTEND:20231011
END:VEVENT
END:VCALENDAR
