BEGIN:VCALENDAR
VERSION:2.0
PRODID:-//hacksw/handcal//NONSGML v1.0//EN
CALSCALE:GREGORIAN
BEGIN:VEVENT
UID:69e7bdbfe3ec6
DTSTAMP:20260421T181111Z
DESCRIPTION:Mock Convention will be hosting another RNC Debate Watch Party on Wednesday\, December 6 from 8-10 p.m. on the Smith Stairs! There will once again be bingo\, prizes\, and a dessert bar! All are welcome to join!
OWU Sponsoring Organization/Office: Mock ConventionContact: Anna Nacci at&nbsp\;mock2024@owu.edu
SUMMARY:Mock Convention Debate Watch Party
DTSTART:20231207T010000Z
DTEND:20231207T030000Z
END:VEVENT
END:VCALENDAR
