BEGIN:VCALENDAR
VERSION:2.0
PRODID:-//hacksw/handcal//NONSGML v1.0//EN
CALSCALE:GREGORIAN
BEGIN:VEVENT
UID:69e9987fb4147
DTSTAMP:20260423T035647Z
DESCRIPTION:Join Mock Convention from 8-10 p.m. on Wednesday\, November 8 at the Smith Stairs to watch the next Republican Primary Debate! There will once again be Bingo and prizes\, as well as a dessert bar! All are welcome!
OWU Sponsoring Organization/Office: Mock ConventionContact: Anna Nacci at&nbsp\;mock2024@owu.edu
&nbsp\;
SUMMARY:Mock Convention Debate Watch Party - Bingo\, Prizes\, Free Food!
DTSTART:20231109T010000Z
DTEND:20231109T030000Z
END:VEVENT
END:VCALENDAR
