BEGIN:VCALENDAR
VERSION:2.0
PRODID:-//hacksw/handcal//NONSGML v1.0//EN
CALSCALE:GREGORIAN
BEGIN:VEVENT
UID:69ecf6b6cf52c
DTSTAMP:20260425T171534Z
DESCRIPTION:Mock Convention will be holding a watch party for the RNC primary debate on Wednesday\, September 27 at the Smith Amphitheater at 9 p.m. There will be a taco bar\, as well as bingo for an opportunity to win prizes! We also encourage people to bring blankets and pillows for a comfy watch!
OWU Sponsoring Organization/Office: Mock ConventionContact: Anna Nacci at&nbsp\;mock2024@owu.edu
SUMMARY:Mock Convention Debate Watch Party
DTSTART:20230928T010000Z
DTEND:20230928T030000Z
END:VEVENT
END:VCALENDAR
